BEGIN:VCALENDAR
VERSION:2.0
PRODID:-//Het Weefhuis - ECPv6.15.20//NONSGML v1.0//EN
CALSCALE:GREGORIAN
METHOD:PUBLISH
X-WR-CALNAME:Het Weefhuis
X-ORIGINAL-URL:https://hetweefhuis.nl
X-WR-CALDESC:Evenementen voor Het Weefhuis
REFRESH-INTERVAL;VALUE=DURATION:PT1H
X-Robots-Tag:noindex
X-PUBLISHED-TTL:PT1H
BEGIN:VTIMEZONE
TZID:Europe/Amsterdam
BEGIN:DAYLIGHT
TZOFFSETFROM:+0100
TZOFFSETTO:+0200
TZNAME:CEST
DTSTART:20250330T010000
END:DAYLIGHT
BEGIN:STANDARD
TZOFFSETFROM:+0200
TZOFFSETTO:+0100
TZNAME:CET
DTSTART:20251026T010000
END:STANDARD
BEGIN:DAYLIGHT
TZOFFSETFROM:+0100
TZOFFSETTO:+0200
TZNAME:CEST
DTSTART:20260329T010000
END:DAYLIGHT
BEGIN:STANDARD
TZOFFSETFROM:+0200
TZOFFSETTO:+0100
TZNAME:CET
DTSTART:20261025T010000
END:STANDARD
BEGIN:DAYLIGHT
TZOFFSETFROM:+0100
TZOFFSETTO:+0200
TZNAME:CEST
DTSTART:20270328T010000
END:DAYLIGHT
BEGIN:STANDARD
TZOFFSETFROM:+0200
TZOFFSETTO:+0100
TZNAME:CET
DTSTART:20271031T010000
END:STANDARD
END:VTIMEZONE
BEGIN:VEVENT
DTSTART;TZID=Europe/Amsterdam:20260425T120000
DTEND;TZID=Europe/Amsterdam:20260426T170000
DTSTAMP:20260426T013525
CREATED:20260319T151028Z
LAST-MODIFIED:20260422T121316Z
UID:17319-1777118400-1777222800@hetweefhuis.nl
SUMMARY:Fluxus cursisten exposeren
DESCRIPTION:In het weekend van 25 en 26 april presenteren Leonard Frederiks en André Huisman beelden en schilderijen van hun cursisten in het prachtige Weefhuis in Zaandijk. \nWekelijks werken de beeldhouwers van de cursussen van Leonard op maandag- en dinsdagavond aan hun kunstwerken\, geboetseerd in klei of gehakt uit steen. De ateliers van Fluxus aan de Westzijde zijn op de dinsdagavonden de werkplek voor de schilders en de beeldhouwers.  \nDe cursus Schilderen met acrylverf is een trouwe groep schilders welke wekelijks een nieuwe uitdaging aangaan onder leiding van André Huisman. Meer dan 30 exposanten tonen hun kleurrijke schilderijen en fraaie beeldhouwwerken.  \nDe expositie geeft een indruk van de resultaten van de lessen; Schilderen met acrylverf op de dinsdagavond en Beeldhouwen en boetseren op maandag en dinsdagavond.
URL:https://hetweefhuis.nl/expositie-lezing/fluxus-cursisten-exposeren/
CATEGORIES:Expositie
ATTACH;FMTTYPE=image/jpeg:https://hetweefhuis.nl/wp-content/uploads/2026/03/image-20.jpeg
END:VEVENT
END:VCALENDAR